BEGIN:VCALENDAR
VERSION:2.0
PRODID:-//Brighton Grammar: Leading Private School | Boys’ School Melbourne - ECPv5.2.1.1//NONSGML v1.0//EN
CALSCALE:GREGORIAN
METHOD:PUBLISH
X-WR-CALNAME:Brighton Grammar: Leading Private School | Boys’ School Melbourne
X-ORIGINAL-URL:https://www.brightongrammar.vic.edu.au
X-WR-CALDESC:Events for Brighton Grammar: Leading Private School | Boys’ School Melbourne
BEGIN:VTIMEZONE
TZID:Australia/Melbourne
BEGIN:STANDARD
TZOFFSETFROM:+1100
TZOFFSETTO:+1000
TZNAME:AEST
DTSTART:20210403T160000
END:STANDARD
BEGIN:DAYLIGHT
TZOFFSETFROM:+1000
TZOFFSETTO:+1100
TZNAME:AEDT
DTSTART:20211002T160000
END:DAYLIGHT
END:VTIMEZONE
BEGIN:VEVENT
DTSTART;TZID=Australia/Melbourne:20210209T173000
DTEND;TZID=Australia/Melbourne:20210209T210000
DTSTAMP:20210227T123024
CREATED:20210120T010023Z
LAST-MODIFIED:20210125T060514Z
UID:35582-1612891800-1612904400@www.brightongrammar.vic.edu.au
SUMMARY:Outdoor Education Expo
DESCRIPTION:The Outdoor Education Department invites you to the Semester 1 Outdoor Education Expo. \nThe Expo will provide you with an opportunity to meet the Outdoor Ed team and discuss the programs and experiences that will be available for your boys in the years to come as well as;   \nInfo sessions:  \n\nYear 7 Mornington Peninsular Program at 6.00pm\nYear 9 Choose your Challenge at 7.00pm\n\n\nMeet Gear providers: \n\nMeet gear providers\, order hire items\, purchase on the day (EFTPOS Only).  \n\nOutsports\nOne Planet\nOfftrack\n\n\n\n\nBuy Swap Sell: \nFamilies from Years 8–12 can sell second-hand outdoor gear that they no longer need to others.  \n\nSuggested items – Packs\, Sleeping Bags\, Sleeping Mats\, Gaiters\, Rain Jackets\, and Over Pants.  \n\n\nAnd more…  \n\nMeet and talk to our program providers.  \nSee an example of appropriate self-cater food and equipment.  \n\n\nContact – Carly West if you would like space at a table to sell second hand gear. \n\nDownload – The Expo Flyer
URL:https://www.brightongrammar.vic.edu.au/event/outdoor-education-expo/
LOCATION:Brighton Grammar\, Urwin Centre\, Allee Street\, Brighton\, Victoria\, 3186\, Australia
CATEGORIES:Secondary School
ATTACH;FMTTYPE=image/png:https://www.brightongrammar.vic.edu.au/wp-content/uploads/2020/01/tribe_events/outdooreducationexpo2021.png
END:VEVENT
END:VCALENDAR